179.9374451491
0.0000000000
0.0000000000
-179.9689903210
-167440.2750688066
770879.0600801463
